BEGIN:VCALENDAR
VERSION:2.0
PRODID:-//hacksw/handcal//NONSGML v1.0//EN
BEGIN:VEVENT
SUMMARY:Corbeille (91)
UID:bbc3cc31-1cef-4946-9d66-2d9430db5f83
DTSTART:20260524T220000Z
DTEND:20260525T220000Z
LOCATION:Localisation   
CATEGORIES:Sportif
STATUS:
URL;VALUE=URI:https://www.lagnypontcarrecyclisme.com/evenements/2026/05/25/corbeille-91-2426645
END:VEVENT
END:VCALENDAR
