BEGIN:VCALENDAR
VERSION:2.0
PRODID:-//hacksw/handcal//NONSGML v1.0//EN
BEGIN:VEVENT
SUMMARY:Choisy-en-Brie (EcoleDeVelo)
UID:59214291-84a7-4ca2-a7d0-46ac39b93ef6
DTSTART:20260612T220000Z
DTEND:20260613T220000Z
LOCATION:Localisation   
CATEGORIES:Sportif
STATUS:
URL;VALUE=URI:https://www.lagnypontcarrecyclisme.com/evenements/2026/06/13/choisy-en-brie-ecoledevelo-2443631
END:VEVENT
END:VCALENDAR
